BEGIN:VCALENDAR
VERSION:2.0
PRODID:-//ChamberMaster//Event Calendar 2.0//EN
METHOD:PUBLISH
X-PUBLISHED-TTL:P3D
REFRESH-INTERVAL:P3D
CALSCALE:GREGORIAN
BEGIN:VEVENT
DTSTART:20260417T160000Z
DTEND:20260417T190000Z
X-MICROSOFT-CDO-ALLDAYEVENT:FALSE
SUMMARY:ECO Community Center Open House
DESCRIPTION:Drop in to our ECO Community Center on Friday\, April 17\, between 9 am and 12 pm for an Open House. You can attend one or all of our 20-minute free sessions starting at 9 am\, featuring beginner Yoga\, Qigong\, and Tai Chi\, and ending with a 15-minute tea ceremony. Learn more about our regular classes\, offered on a donation basis\, and meet our instructors. Bring a yoga mat or use one of ours. Light refreshments will be served. Call 928-451-4853 for more information.
X-ALT-DESC;FMTTYPE=text/html:<span style="color: rgb(5\, 5\, 5)\; font-family: &quot\;Segoe UI Historic&quot\;\, &quot\;Segoe UI&quot\;\, Helvetica\, Arial\, sans-serif\; font-size: 15px\;">Drop in to our ECO Community Center on Friday\, April 17\, between 9 am and 12 pm for an Open House. You can attend one or all of our 20-minute free sessions starting at 9 am\, featuring beginner Yoga\, Qigong\, and Tai Chi\, and ending with a 15-minute tea ceremony. Learn more about our regular classes\, offered on a donation basis\, and meet our instructors. Bring a yoga mat or use one of ours. Light refreshments will be served. Call 928-451-4853 for more information.</span>
LOCATION:3360 E Hwy 89A\, Cottonwood\, AZ 86326
UID:e.332.32869
SEQUENCE:3
DTSTAMP:20260425T132323Z
URL:https://business.verdevalleychamber.org/events/details/eco-community-center-open-house-32869
END:VEVENT

END:VCALENDAR
